BEGIN:VCALENDAR
PRODID:-//Microsoft Corporation//Outlook 16.0 MIMEDIR//EN
VERSION:2.0
METHOD:PUBLISH
X-MS-OLK-FORCEINSPECTOROPEN:TRUE
BEGIN:VTIMEZONE
TZID:GMT Standard Time
BEGIN:STANDARD
DTSTART:16011028T020000
RRULE:FREQ=YEARLY;BYDAY=-1SU;BYMONTH=10
TZOFFSETFROM:+0100
TZOFFSETTO:-0000
END:STANDARD
BEGIN:DAYLIGHT
DTSTART:16010325T010000
RRULE:FREQ=YEARLY;BYDAY=-1SU;BYMONTH=3
TZOFFSETFROM:-0000
TZOFFSETTO:+0100
END:DAYLIGHT
END:VTIMEZONE
BEGIN:VEVENT
CLASS:PUBLIC
CREATED:20180802T125748Z
DESCRIPTION:We look forward to you joining us\, for a short webinar. \n\nTi
	tle: Delivering sustainability through a pragmatically engineered approach
	\n\nDate: 9th August 2018\n\nTime: 13.30 (BST)\n\nLink: https://meet.lync.
	com/idipac.com/chris.w/ZIGQ7U7F \n\nOn the day please click the link to jo
	in the webinar. If you have any questions\, please feel free to contact me
	.\n\nYours sincerely\,\n\nChris Waterhouse\n\nManaging Director\, iDi Pac 
	Ltd\n\noffice@idipac.com \n\nwww.idipac.com\n\nPhone: +44 (0)1420 538055  
	      \n\n
DTEND;TZID="GMT Standard Time":20180809T140000
DTSTAMP:20180301T112501Z
DTSTART;TZID="GMT Standard Time":20180809T133000
LAST-MODIFIED:20180802T125748Z
LOCATION:Skype Meeting
PRIORITY:5
SEQUENCE:0
SUMMARY;LANGUAGE=en-gb:iDi Pac Webinar 3.2 - Delivering sustainability thro
	ugh a pragmatically engineered approach
TRANSP:OPAQUE
UID:040000008200E00074C5B7101A82E00800000000B05A9E6A4CB1D301000000000000000
	010000000414893DD87FE31478EE21E95A9994C6F
X-ALT-DESC;FMTTYPE=text/html:<!DOCTYPE HTML PUBLIC "-//W3C//DTD HTML 3.2//E
	N">\n<HTML>\n<HEAD>\n<META NAME="Generator" CONTENT="MS Exchange Server ve
	rsion 16.0.10228.20104">\n<TITLE></TITLE>\n</HEAD>\n<BODY>\n<!-- Converted
	 from text/plain format -->\n\n<P><FONT SIZE=2>We look forward to you join
	ing us\, for a short webinar. </FONT>\n</P>\n\n<P><FONT SIZE=2>Title: Deli
	vering sustainability through a pragmatically engineered approach</FONT>\n
	</P>\n\n<P><FONT SIZE=2>Date: 9th August 2018</FONT>\n</P>\n\n<P><FONT SIZ
	E=2>Time: 13.30 (BST)</FONT>\n</P>\n\n<P><FONT SIZE=2>Link: <A HREF="https
	://meet.lync.com/idipac.com/chris.w/ZIGQ7U7F">https://meet.lync.com/idipac
	.com/chris.w/ZIGQ7U7F</A> </FONT>\n</P>\n\n<P><FONT SIZE=2>On the day plea
	se click the link to join the webinar. If you have any questions\, please 
	feel free to contact me.</FONT>\n</P>\n\n<P><FONT SIZE=2>Yours sincerely\,
	</FONT>\n</P>\n\n<P><FONT SIZE=2>Chris Waterhouse</FONT>\n</P>\n\n<P><FONT
	 SIZE=2>Managing Director\, iDi Pac Ltd</FONT>\n</P>\n\n<P><FONT SIZE=2>of
	fice@idipac.com </FONT>\n</P>\n\n<P><FONT SIZE=2>www.idipac.com</FONT>\n</
	P>\n\n<P><FONT SIZE=2>Phone: +44 (0)1420 538055&nbsp\;&nbsp\;&nbsp\;&nbsp\
	;&nbsp\;&nbsp\;&nbsp\; </FONT>\n</P>\n\n</BODY>\n</HTML>
X-MICROSOFT-CDO-BUSYSTATUS:BUSY
X-MICROSOFT-CDO-IMPORTANCE:1
X-MICROSOFT-DISALLOW-COUNTER:FALSE
X-MS-OLK-AUTOFILLLOCATION:FALSE
X-MS-OLK-CONFTYPE:0
BEGIN:VALARM
TRIGGER:-PT15M
ACTION:DISPLAY
DESCRIPTION:Reminder
END:VALARM
END:VEVENT
END:VCALENDAR
